BEGIN:VCALENDAR
VERSION:2.0
PRODID:-//Cogans Pizza - ECPv6.15.20//NONSGML v1.0//EN
CALSCALE:GREGORIAN
METHOD:PUBLISH
X-ORIGINAL-URL:https://coganspizza.com
X-WR-CALDESC:Events for Cogans Pizza
REFRESH-INTERVAL;VALUE=DURATION:PT1H
X-Robots-Tag:noindex
X-PUBLISHED-TTL:PT1H
BEGIN:VTIMEZONE
TZID:America/New_York
BEGIN:DAYLIGHT
TZOFFSETFROM:-0500
TZOFFSETTO:-0400
TZNAME:EDT
DTSTART:20230312T070000
END:DAYLIGHT
BEGIN:STANDARD
TZOFFSETFROM:-0400
TZOFFSETTO:-0500
TZNAME:EST
DTSTART:20231105T060000
END:STANDARD
BEGIN:DAYLIGHT
TZOFFSETFROM:-0500
TZOFFSETTO:-0400
TZNAME:EDT
DTSTART:20240310T070000
END:DAYLIGHT
BEGIN:STANDARD
TZOFFSETFROM:-0400
TZOFFSETTO:-0500
TZNAME:EST
DTSTART:20241103T060000
END:STANDARD
BEGIN:DAYLIGHT
TZOFFSETFROM:-0500
TZOFFSETTO:-0400
TZNAME:EDT
DTSTART:20250309T070000
END:DAYLIGHT
BEGIN:STANDARD
TZOFFSETFROM:-0400
TZOFFSETTO:-0500
TZNAME:EST
DTSTART:20251102T060000
END:STANDARD
END:VTIMEZONE
BEGIN:VEVENT
DTSTART;TZID=America/New_York:20241030T210000
DTEND;TZID=America/New_York:20241030T233000
DTSTAMP:20260422T060236
CREATED:20241022T131927Z
LAST-MODIFIED:20241220T173548Z
UID:10000068-1730322000-1730331000@coganspizza.com
SUMMARY:Halloween Karaoke Throwdown @ OG
DESCRIPTION:It’s Halloween season for all you spooky freaks\, plus it’s Karaoke time at OG! #hellyea Stop by Cogans in Ghent Wednesday and show us what ya got! \n🍺Happy Hour runs until 7pm\n🍻Power Hour is 7-9pm\n🎤Spooky Karaoke starts at 9pm \n. \n#Karaoke #KaraokeInGhent #HalloweenKaraoke #HappyHour #PowerHour \n🍺Happy Hour @ Cogans: Mon-Fri\, 11am-7pm. $2.75 domestics\, $3.75 well drinks\, $1 off all other drafts\, bottles\, and liquors. Cocktails and pitchers not included. *Dine-in only. \n🍻Wednesday Special @ Cogans: Power Hour\, Wed\, 7-9 pm. $2.50 domestics\, $3.50 all single well drinks. *Dine-in only.
URL:https://coganspizza.com/event/halloween-karaoke-throwdown-og-2024/
LOCATION:Cogans Pizza Ghent\, 1901 Colonial Ave\, Norfolk\, VA\, 23517\, United States
ATTACH;FMTTYPE=image/png:https://coganspizza.com/wp-content/uploads/2024/10/OG-Halloween-Karaoke-2024-10-16x9-1.png
END:VEVENT
END:VCALENDAR